BEGIN:VCALENDAR
VERSION:2.0
PRODID:spatie/icalendar-generator
DESCRIPTION:Events from VFW Department of Arizona\, District 7
X-WR-CALDESC:Events from VFW Department of Arizona\, District 7
REFRESH-INTERVAL;VALUE=DURATION:PT1440M
X-PUBLISHED-TTL:PT1440M
BEGIN:VTIMEZONE
TZID:Etc/GMT+0
BEGIN:STANDARD
DTSTART:20250706T170000Z
TZOFFSETFROM:+0000
TZOFFSETTO:+0000
END:STANDARD
END:VTIMEZONE
BEGIN:VTIMEZONE
TZID:UTC
BEGIN:STANDARD
DTSTART:20250724T124450Z
TZOFFSETFROM:+0000
TZOFFSETTO:+0000
END:STANDARD
END:VTIMEZONE
BEGIN:VEVENT
UID:93-28
DTSTAMP:20260420T124450Z
SUMMARY:Military Order of the Cootie Pup Tent 13 Scratch
LOCATION:
ORGANIZER;CN=Greg Algorri:MAILTO:webmaster@vfw9972.org
RRULE:FREQ=MONTHLY;BYDAY=1TH;UNTIL=20260604T000000Z
DTSTART;TZID=Etc/GMT+0:20260402T170000
DTEND;TZID=Etc/GMT+0:20260402T180000
X-ALT-DESC;FMTTYPE=TEXT/HTML:
CATEGORIES:Department
URL;VALUE=URI:https://www.vfwazd7.org/mc-events/military-order-of-the-cooti
 e-pup-tent-13-scratch/?mc_id=93
METHOD:PUBLISH
END:VEVENT
END:VCALENDAR