BEGIN:VCALENDAR
VERSION:2.0
PRODID:spatie/icalendar-generator
DESCRIPTION:Events from VFW Department of Arizona\, District 7
X-WR-CALDESC:Events from VFW Department of Arizona\, District 7
REFRESH-INTERVAL;VALUE=DURATION:PT1440M
X-PUBLISHED-TTL:PT1440M
BEGIN:VTIMEZONE
TZID:Etc/GMT+0
BEGIN:STANDARD
DTSTART:20241016T100000Z
TZOFFSETFROM:+0000
TZOFFSETTO:+0000
END:STANDARD
END:VTIMEZONE
BEGIN:VTIMEZONE
TZID:UTC
BEGIN:STANDARD
DTSTART:20250724T190800Z
TZOFFSETFROM:+0000
TZOFFSETTO:+0000
END:STANDARD
END:VTIMEZONE
BEGIN:VEVENT
UID:83-27
DTSTAMP:20260420T190800Z
SUMMARY:District Meeting
LOCATION:
ORGANIZER;CN=Greg Algorri:MAILTO:webmaster@vfw9972.org
DTSTART;TZID=Etc/GMT+0:20250713T100000
DTEND;TZID=Etc/GMT+0:20250713T110000
X-ALT-DESC;FMTTYPE=TEXT/HTML:
CATEGORIES:Department
URL;VALUE=URI:https://www.vfwazd7.org/mc-events/district-meeting/
METHOD:PUBLISH
END:VEVENT
END:VCALENDAR