BEGIN:VCALENDAR
VERSION:2.0
PRODID:spatie/icalendar-generator
DESCRIPTION:Events from VFW Department of Arizona\, District 7
X-WR-CALDESC:Events from VFW Department of Arizona\, District 7
REFRESH-INTERVAL;VALUE=DURATION:PT1440M
X-PUBLISHED-TTL:PT1440M
BEGIN:VTIMEZONE
TZID:Etc/GMT+0
BEGIN:STANDARD
DTSTART:20241006T180000Z
TZOFFSETFROM:+0000
TZOFFSETTO:+0000
END:STANDARD
END:VTIMEZONE
BEGIN:VTIMEZONE
TZID:UTC
BEGIN:STANDARD
DTSTART:20250724T172624Z
TZOFFSETFROM:+0000
TZOFFSETTO:+0000
END:STANDARD
END:VTIMEZONE
BEGIN:VEVENT
UID:71-26
DTSTAMP:20260420T172624Z
SUMMARY:Post 9977 General Membership Meeting
LOCATION:
ORGANIZER;CN=Greg Algorri:MAILTO:webmaster@vfw9972.org
RRULE:FREQ=MONTHLY;BYDAY=1TH;UNTIL=20260702T000000Z
DTSTART;TZID=Etc/GMT+0:20250703T180000
DTEND;TZID=Etc/GMT+0:20250703T190000
X-ALT-DESC;FMTTYPE=TEXT/HTML:
CATEGORIES:Department
URL;VALUE=URI:https://www.vfwazd7.org/mc-events/post-9977-general-membershi
 p-meeting/?mc_id=71
METHOD:PUBLISH
END:VEVENT
END:VCALENDAR