BEGIN:VCALENDAR
VERSION:2.0
PRODID:spatie/icalendar-generator
DESCRIPTION:Events from VFW Department of Arizona\, District 7
X-WR-CALDESC:Events from VFW Department of Arizona\, District 7
REFRESH-INTERVAL;VALUE=DURATION:PT1440M
X-PUBLISHED-TTL:PT1440M
BEGIN:VTIMEZONE
TZID:Etc/GMT+0
BEGIN:STANDARD
DTSTART:20250611T180000Z
TZOFFSETFROM:+0000
TZOFFSETTO:+0000
END:STANDARD
END:VTIMEZONE
BEGIN:VTIMEZONE
TZID:UTC
BEGIN:STANDARD
DTSTART:20250724T172422Z
TZOFFSETFROM:+0000
TZOFFSETTO:+0000
END:STANDARD
END:VTIMEZONE
BEGIN:VEVENT
UID:67-25
DTSTAMP:20260420T172422Z
SUMMARY:Post 10385 General Membership Meeting
LOCATION:VFW Post 10385 3481 W. 8th Street                                 
          Thatcher AZ   85552
ORGANIZER;CN=Greg Algorri:MAILTO:webmaster@vfw9972.org
RRULE:FREQ=MONTHLY;BYDAY=2SU;UNTIL=20260712T000000Z
DTSTART;TZID=Etc/GMT+0:20260308T180000
DTEND;TZID=Etc/GMT+0:20260308T190000
X-ALT-DESC;FMTTYPE=TEXT/HTML:
CATEGORIES:Department
URL;VALUE=URI:https://www.vfwazd7.org/mc-events/post-10385-general-membersh
 ip-meeting/?mc_id=67
METHOD:PUBLISH
END:VEVENT
END:VCALENDAR