BEGIN:VCALENDAR
VERSION:2.0
PRODID:spatie/icalendar-generator
DESCRIPTION:Events from VFW Department of Arizona\, District 7
X-WR-CALDESC:Events from VFW Department of Arizona\, District 7
REFRESH-INTERVAL;VALUE=DURATION:PT1440M
X-PUBLISHED-TTL:PT1440M
BEGIN:VTIMEZONE
TZID:Etc/GMT+0
BEGIN:STANDARD
DTSTART:20250625T180000Z
TZOFFSETFROM:+0000
TZOFFSETTO:+0000
END:STANDARD
END:VTIMEZONE
BEGIN:VTIMEZONE
TZID:UTC
BEGIN:STANDARD
DTSTART:20250724T142025Z
TZOFFSETFROM:+0000
TZOFFSETTO:+0000
END:STANDARD
END:VTIMEZONE
BEGIN:VEVENT
UID:55-24
DTSTAMP:20260420T142025Z
SUMMARY:Post 2066 General membership Meeting
LOCATION:
ORGANIZER;CN=Greg Algorri:MAILTO:webmaster@vfw9972.org
RRULE:FREQ=MONTHLY;BYDAY=4SU;UNTIL=20260726T000000Z
DTSTART;TZID=Etc/GMT+0:20260322T180000
DTEND;TZID=Etc/GMT+0:20260322T190000
X-ALT-DESC;FMTTYPE=TEXT/HTML:
CATEGORIES:Post
URL;VALUE=URI:https://www.vfwazd7.org/mc-events/post-2066-general-membershi
 p-meeting/?mc_id=55
METHOD:PUBLISH
END:VEVENT
END:VCALENDAR