BEGIN:VCALENDAR
VERSION:2.0
PRODID:spatie/icalendar-generator
DESCRIPTION:Events from VFW Department of Arizona\, District 7
X-WR-CALDESC:Events from VFW Department of Arizona\, District 7
REFRESH-INTERVAL;VALUE=DURATION:PT1440M
X-PUBLISHED-TTL:PT1440M
BEGIN:VTIMEZONE
TZID:Etc/GMT+0
BEGIN:STANDARD
DTSTART:20250720T190000Z
TZOFFSETFROM:+0000
TZOFFSETTO:+0000
END:STANDARD
END:VTIMEZONE
BEGIN:VTIMEZONE
TZID:UTC
BEGIN:STANDARD
DTSTART:20250724T122836Z
TZOFFSETFROM:+0000
TZOFFSETTO:+0000
END:STANDARD
END:VTIMEZONE
BEGIN:VEVENT
UID:45-23
DTSTAMP:20260420T122836Z
SUMMARY:Post 836 General Membership Meeting
LOCATION:
ORGANIZER;CN=Greg Algorri:MAILTO:webmaster@vfw9972.org
RRULE:FREQ=MONTHLY;BYDAY=3TH;UNTIL=20260618T000000Z
DTSTART;TZID=Etc/GMT+0:20260416T190000
DTEND;TZID=Etc/GMT+0:20260416T200000
X-ALT-DESC;FMTTYPE=TEXT/HTML:
CATEGORIES:Post
URL;VALUE=URI:https://www.vfwazd7.org/mc-events/post-836-general-membership
 -meeting/?mc_id=45
METHOD:PUBLISH
END:VEVENT
END:VCALENDAR